BEGIN:VCALENDAR
VERSION:2.0
PRODID:-//Centre for the Study of Human Rights
CALSCALE:GREGORIAN
METHOD:PUBLISH
X-WR-CALNAME:Centre for the Study of Human Rights
X-ORIGINAL-URL:https://cshr.cmb.ac.lk/event/5729/
X-WR-CALDESC:Free Legal Advice Mobile Camp &#8211; Kurunegala
BEGIN:VEVENT
DTSTART:20240322T090000
DTEND:
SUMMARY:Free Legal Advice Mobile Camp &#8211; Kurunegala
DESCRIPTION:
LOCATION:
END:VEVENT
END:VCALENDAR
