BEGIN:VCALENDAR
VERSION:2.0
PRODID:-//Centre for the Study of Human Rights
CALSCALE:GREGORIAN
METHOD:PUBLISH
X-WR-CALNAME:Centre for the Study of Human Rights
X-ORIGINAL-URL:https://cshr.cmb.ac.lk/event/a-training-session-for-law-students-to-draft-petitions-on-fundamental-rights-violations-to-the-human-rights-commission-sri-lanka/
X-WR-CALDESC:A training session for law students to draft petitions on Fundamental Rights violations to the Human Rights Commission, Sri Lanka
BEGIN:VEVENT
DTSTART:20240111T000000
DTEND:
SUMMARY:A training session for law students to draft petitions on Fundamental Rights violations to the Human Rights Commission, Sri Lanka
DESCRIPTION:
LOCATION:
END:VEVENT
END:VCALENDAR
